Package: VanillaICE Version: 1.60.0 Command: /Library/Frameworks/R.framework/Resources/bin/R CMD INSTALL VanillaICE StartedAt: 2023-04-16 16:58:34 -0400 (Sun, 16 Apr 2023) EndedAt: 2023-04-16 16:59:39 -0400 (Sun, 16 Apr 2023) EllapsedTime: 65.1 seconds RetCode: 0 Status: OK