Package: VCFArray Version: 1.14.0 Command: /Library/Frameworks/R.framework/Resources/bin/R CMD build --keep-empty-dirs --no-resave-data VCFArray StartedAt: 2023-04-18 12:37:44 -0400 (Tue, 18 Apr 2023) EndedAt: 2023-04-18 12:39:18 -0400 (Tue, 18 Apr 2023) EllapsedTime: 94.3 seconds RetCode: 0 Status: OK PackageFile: VCFArray_1.14.0.tar.gz PackageFileSize: 288.2 KiB