Package: TargetDecoy Version: 1.4.0 Command: /Library/Frameworks/R.framework/Resources/bin/R CMD build --keep-empty-dirs --no-resave-data TargetDecoy StartedAt: 2023-04-18 10:17:09 -0400 (Tue, 18 Apr 2023) EndedAt: 2023-04-18 10:18:01 -0400 (Tue, 18 Apr 2023) EllapsedTime: 52.3 seconds RetCode: 0 Status: OK PackageFile: TargetDecoy_1.4.0.tar.gz PackageFileSize: 3.917 MiB