Package: SpatialDecon Version: 1.8.0 Command: /Library/Frameworks/R.framework/Resources/bin/R CMD INSTALL SpatialDecon StartedAt: 2023-04-16 18:59:45 -0400 (Sun, 16 Apr 2023) EndedAt: 2023-04-16 19:00:20 -0400 (Sun, 16 Apr 2023) EllapsedTime: 35.4 seconds RetCode: 0 Status: OK