Package: SpatialDecon Version: 1.8.0 Command: rm -rf SpatialDecon.buildbin-libdir && mkdir SpatialDecon.buildbin-libdir && /Users/biocbuild/BBS/utils/build-universal.sh SpatialDecon_1.8.0.tar.gz /Library/Frameworks/R.framework/Resources/bin/R SpatialDecon.buildbin-libdir StartedAt: 2023-04-18 19:47:19 -0400 (Tue, 18 Apr 2023) EndedAt: 2023-04-18 19:48:22 -0400 (Tue, 18 Apr 2023) EllapsedTime: 63.2 seconds RetCode: 0 Status: OK PackageFile: SpatialDecon_1.8.0.tgz PackageFileSize: 4.116 MiB