Package: STROMA4 Version: 1.22.0 Command: /Library/Frameworks/R.framework/Resources/bin/R CMD build --keep-empty-dirs --no-resave-data STROMA4 StartedAt: 2023-04-18 09:38:14 -0400 (Tue, 18 Apr 2023) EndedAt: 2023-04-18 09:38:36 -0400 (Tue, 18 Apr 2023) EllapsedTime: 22.0 seconds RetCode: 0 Status: OK PackageFile: STROMA4_1.22.0.tar.gz PackageFileSize: 210.9 KiB