Package: STROMA4 Version: 1.22.0 Command: rm -rf STROMA4.buildbin-libdir && mkdir STROMA4.buildbin-libdir && /Users/biocbuild/BBS/utils/build-universal.sh STROMA4_1.22.0.tar.gz /Library/Frameworks/R.framework/Resources/bin/R STROMA4.buildbin-libdir StartedAt: 2023-04-18 19:57:56 -0400 (Tue, 18 Apr 2023) EndedAt: 2023-04-18 19:58:08 -0400 (Tue, 18 Apr 2023) EllapsedTime: 12.6 seconds RetCode: 0 Status: OK PackageFile: STROMA4_1.22.0.tgz PackageFileSize: 242.1 KiB