Package: Ringo Version: 1.62.0 Command: /Library/Frameworks/R.framework/Resources/bin/R CMD INSTALL Ringo StartedAt: 2023-04-16 17:46:44 -0400 (Sun, 16 Apr 2023) EndedAt: 2023-04-16 17:47:27 -0400 (Sun, 16 Apr 2023) EllapsedTime: 43.7 seconds RetCode: 0 Status: OK