Package: ReportingTools Version: 2.38.0 Command: /Library/Frameworks/R.framework/Resources/bin/R CMD INSTALL ReportingTools StartedAt: 2023-04-16 18:02:37 -0400 (Sun, 16 Apr 2023) EndedAt: 2023-04-16 18:04:23 -0400 (Sun, 16 Apr 2023) EllapsedTime: 105.4 seconds RetCode: 0 Status: OK