Package: RTCGAToolbox Version: 2.28.4 Command: /Library/Frameworks/R.framework/Resources/bin/R CMD build --keep-empty-dirs --no-resave-data RTCGAToolbox StartedAt: 2023-04-18 02:35:58 -0400 (Tue, 18 Apr 2023) EndedAt: 2023-04-18 02:36:52 -0400 (Tue, 18 Apr 2023) EllapsedTime: 53.9 seconds RetCode: 0 Status: OK PackageFile: RTCGAToolbox_2.28.4.tar.gz PackageFileSize: 2.337 MiB