Package: RTCGAToolbox Version: 2.28.4 Command: rm -rf RTCGAToolbox.buildbin-libdir && mkdir RTCGAToolbox.buildbin-libdir && /Users/biocbuild/BBS/utils/build-universal.sh RTCGAToolbox_2.28.4.tar.gz /Library/Frameworks/R.framework/Resources/bin/R RTCGAToolbox.buildbin-libdir StartedAt: 2023-04-18 19:08:08 -0400 (Tue, 18 Apr 2023) EndedAt: 2023-04-18 19:09:12 -0400 (Tue, 18 Apr 2023) EllapsedTime: 64.0 seconds RetCode: 0 Status: OK PackageFile: RTCGAToolbox_2.28.4.tgz PackageFileSize: 669.2 KiB