Package: PhyloProfile Version: 1.12.6 Command: /Library/Frameworks/R.framework/Resources/bin/R CMD INSTALL PhyloProfile StartedAt: 2023-04-16 19:02:06 -0400 (Sun, 16 Apr 2023) EndedAt: 2023-04-16 19:02:36 -0400 (Sun, 16 Apr 2023) EllapsedTime: 30.4 seconds RetCode: 0 Status: OK