Package: MiPP Version: 1.70.0 Command: /Library/Frameworks/R.framework/Resources/bin/R CMD INSTALL MiPP StartedAt: 2023-04-16 14:21:00 -0400 (Sun, 16 Apr 2023) EndedAt: 2023-04-16 14:21:06 -0400 (Sun, 16 Apr 2023) EllapsedTime: 6.6 seconds RetCode: 0 Status: OK