Package: KEGGgraph Version: 1.58.3 Command: rm -rf KEGGgraph.buildbin-libdir && mkdir KEGGgraph.buildbin-libdir && /Users/biocbuild/BBS/utils/build-universal.sh KEGGgraph_1.58.3.tar.gz /Library/Frameworks/R.framework/Resources/bin/R KEGGgraph.buildbin-libdir StartedAt: 2023-04-18 16:45:57 -0400 (Tue, 18 Apr 2023) EndedAt: 2023-04-18 16:46:16 -0400 (Tue, 18 Apr 2023) EllapsedTime: 18.9 seconds RetCode: 0 Status: OK PackageFile: KEGGgraph_1.58.3.tgz PackageFileSize: 1.612 MiB