Package: KCsmart Version: 2.56.0 Command: /Library/Frameworks/R.framework/Resources/bin/R CMD INSTALL KCsmart StartedAt: 2023-04-16 14:22:12 -0400 (Sun, 16 Apr 2023) EndedAt: 2023-04-16 14:22:30 -0400 (Sun, 16 Apr 2023) EllapsedTime: 17.5 seconds RetCode: 0 Status: OK