Package: KCsmart Version: 2.56.0 Command: rm -rf KCsmart.buildbin-libdir && mkdir KCsmart.buildbin-libdir && /Users/biocbuild/BBS/utils/build-universal.sh KCsmart_2.56.0.tar.gz /Library/Frameworks/R.framework/Resources/bin/R KCsmart.buildbin-libdir StartedAt: 2023-04-18 16:45:37 -0400 (Tue, 18 Apr 2023) EndedAt: 2023-04-18 16:46:07 -0400 (Tue, 18 Apr 2023) EllapsedTime: 29.7 seconds RetCode: 0 Status: OK PackageFile: KCsmart_2.56.0.tgz PackageFileSize: 2.197 MiB