Package: HiCDOC Version: 1.0.0 Command: rm -rf HiCDOC.buildbin-libdir && mkdir HiCDOC.buildbin-libdir && /Users/biocbuild/BBS/utils/build-universal.sh HiCDOC_1.0.0.tar.gz /Library/Frameworks/R.framework/Resources/bin/R HiCDOC.buildbin-libdir StartedAt: 2023-04-18 16:25:34 -0400 (Tue, 18 Apr 2023) EndedAt: 2023-04-18 16:27:38 -0400 (Tue, 18 Apr 2023) EllapsedTime: 123.8 seconds RetCode: 0 Status: OK PackageFile: HiCDOC_1.0.0.tgz PackageFileSize: 3.209 MiB