Package: GGPA Version: 1.10.2 Command: /Library/Frameworks/R.framework/Resources/bin/R CMD build --keep-empty-dirs --no-resave-data GGPA StartedAt: 2023-04-17 08:09:20 -0400 (Mon, 17 Apr 2023) EndedAt: 2023-04-17 08:10:42 -0400 (Mon, 17 Apr 2023) EllapsedTime: 82.2 seconds RetCode: 0 Status: OK PackageFile: GGPA_1.10.2.tar.gz PackageFileSize: 4.711 MiB