Package: FRASER Version: 1.10.2 Command: rm -rf FRASER.buildbin-libdir && mkdir FRASER.buildbin-libdir && /Users/biocbuild/BBS/utils/build-universal.sh FRASER_1.10.2.tar.gz /Library/Frameworks/R.framework/Resources/bin/R FRASER.buildbin-libdir StartedAt: 2023-04-18 15:51:57 -0400 (Tue, 18 Apr 2023) EndedAt: 2023-04-18 15:55:04 -0400 (Tue, 18 Apr 2023) EllapsedTime: 187.3 seconds RetCode: 0 Status: OK PackageFile: FRASER_1.10.2.tgz PackageFileSize: 2.948 MiB