Package: EnrichmentBrowser Version: 2.28.2 Command: /Library/Frameworks/R.framework/Resources/bin/R CMD build --keep-empty-dirs --no-resave-data EnrichmentBrowser StartedAt: 2023-04-17 05:23:12 -0400 (Mon, 17 Apr 2023) EndedAt: 2023-04-17 05:25:43 -0400 (Mon, 17 Apr 2023) EllapsedTime: 151.4 seconds RetCode: 0 Status: OK PackageFile: EnrichmentBrowser_2.28.2.tar.gz PackageFileSize: 1.923 MiB