Package: EnrichmentBrowser Version: 2.28.2 Command: rm -rf EnrichmentBrowser.buildbin-libdir && mkdir EnrichmentBrowser.buildbin-libdir && /Users/biocbuild/BBS/utils/build-universal.sh EnrichmentBrowser_2.28.2.tar.gz /Library/Frameworks/R.framework/Resources/bin/R EnrichmentBrowser.buildbin-libdir StartedAt: 2023-04-18 15:29:21 -0400 (Tue, 18 Apr 2023) EndedAt: 2023-04-18 15:30:42 -0400 (Tue, 18 Apr 2023) EllapsedTime: 81.5 seconds RetCode: 0 Status: OK PackageFile: EnrichmentBrowser_2.28.2.tgz PackageFileSize: 2.127 MiB