Back to Mac ARM64 build report for BioC 3.16 |
|
This page was generated on 2023-04-19 11:01:48 -0400 (Wed, 19 Apr 2023).
Hostname | OS | Arch (*) | R version | Installed pkgs |
---|---|---|---|---|
kjohnson | macOS 13.0 Ventura | arm64 | 4.2.2 (2022-10-31) -- "Innocent and Trusting" | 4256 |
Click on any hostname to see more info about the system (e.g. compilers) (*) as reported by 'uname -p', except on Windows and Mac OS X |
To the developers/maintainers of the EDASeq package: Make sure to use the following settings in order to reproduce any error or warning you see on this page. |
Package 593/2183 | Hostname | OS / Arch | INSTALL | BUILD | BUILD BIN | ||||||||
EDASeq 2.32.0 (landing page) Davide Risso
| kjohnson | macOS 13.0 Ventura / arm64 | OK | OK | OK | ![]() | |||||||
QUICK STATS | OS / Arch | INSTALL | BUILD | BUILD BIN | |||||||||||||
kjohnson | macOS 13.0 Ventura / arm64 |
|
|
| |||||||||||||
Package 1/6 | Hostname | OS / Arch | INSTALL | BUILD | BUILD BIN | ||||||||||||
consensusDE 1.16.0 (landing page) Ashley J. Waardenberg
| kjohnson | macOS 13.0 Ventura / arm64 | OK | OK | OK | ![]() | |||||||||||
Package 2/6 | Hostname | OS / Arch | INSTALL | BUILD | BUILD BIN | ||||||||||||
DaMiRseq 2.10.0 (landing page) Mattia Chiesa
| kjohnson | macOS 13.0 Ventura / arm64 | OK | OK | OK | ![]() | |||||||||||
Package 3/6 | Hostname | OS / Arch | INSTALL | BUILD | BUILD BIN | ||||||||||||
metaseqR2 1.10.0 (landing page) Panagiotis Moulos
| kjohnson | macOS 13.0 Ventura / arm64 | OK | OK | OK | ![]() | |||||||||||
Package 4/6 | Hostname | OS / Arch | INSTALL | BUILD | BUILD BIN | ||||||||||||
octad 1.0.0 (landing page) E. Chekalin
| kjohnson | macOS 13.0 Ventura / arm64 | OK | OK | OK | ![]() | |||||||||||
Package 5/6 | Hostname | OS / Arch | INSTALL | BUILD | BUILD BIN | ||||||||||||
ribosomeProfilingQC 1.10.0 (landing page) Jianhong Ou
| kjohnson | macOS 13.0 Ventura / arm64 | OK | OK | OK | ![]() | |||||||||||
Package 6/6 | Hostname | OS / Arch | INSTALL | BUILD | BUILD BIN | ||||||||||||
RUVSeq 1.32.0 (landing page) Davide Risso
| kjohnson | macOS 13.0 Ventura / arm64 | OK | OK | OK | ![]() | |||||||||||