Package: CytoDx Version: 1.18.0 Command: /Library/Frameworks/R.framework/Resources/bin/R CMD INSTALL CytoDx StartedAt: 2023-04-16 15:02:08 -0400 (Sun, 16 Apr 2023) EndedAt: 2023-04-16 15:02:30 -0400 (Sun, 16 Apr 2023) EllapsedTime: 22.6 seconds RetCode: 0 Status: OK