Package: CoRegNet Version: 1.36.0 Command: rm -rf CoRegNet.buildbin-libdir && mkdir CoRegNet.buildbin-libdir && /Users/biocbuild/BBS/utils/build-universal.sh CoRegNet_1.36.0.tar.gz /Library/Frameworks/R.framework/Resources/bin/R CoRegNet.buildbin-libdir StartedAt: 2023-04-18 14:47:59 -0400 (Tue, 18 Apr 2023) EndedAt: 2023-04-18 14:48:37 -0400 (Tue, 18 Apr 2023) EllapsedTime: 37.7 seconds RetCode: 0 Status: OK PackageFile: CoRegNet_1.36.0.tgz PackageFileSize: 3.75 MiB