Package: ChemmineR Version: 3.50.0 Command: /Library/Frameworks/R.framework/Resources/bin/R CMD INSTALL ChemmineR StartedAt: 2023-04-16 14:58:20 -0400 (Sun, 16 Apr 2023) EndedAt: 2023-04-16 14:59:09 -0400 (Sun, 16 Apr 2023) EllapsedTime: 49.7 seconds RetCode: 0 Status: OK