Package: CAGEr Version: 2.4.0 Command: /Library/Frameworks/R.framework/Resources/bin/R CMD build --keep-empty-dirs --no-resave-data CAGEr StartedAt: 2023-04-16 22:48:40 -0400 (Sun, 16 Apr 2023) EndedAt: 2023-04-16 22:52:08 -0400 (Sun, 16 Apr 2023) EllapsedTime: 208.0 seconds RetCode: 0 Status: OK PackageFile: CAGEr_2.4.0.tar.gz PackageFileSize: 1.707 MiB