Package: BioMM Version: 1.14.0 Command: /Library/Frameworks/R.framework/Resources/bin/R CMD INSTALL BioMM StartedAt: 2023-04-16 15:51:14 -0400 (Sun, 16 Apr 2023) EndedAt: 2023-04-16 15:51:35 -0400 (Sun, 16 Apr 2023) EllapsedTime: 21.0 seconds RetCode: 0 Status: OK