Package: BioMM Version: 1.14.0 Command: rm -rf BioMM.buildbin-libdir && mkdir BioMM.buildbin-libdir && /Users/biocbuild/BBS/utils/build-universal.sh BioMM_1.14.0.tar.gz /Library/Frameworks/R.framework/Resources/bin/R BioMM.buildbin-libdir StartedAt: 2023-04-18 13:59:23 -0400 (Tue, 18 Apr 2023) EndedAt: 2023-04-18 13:59:55 -0400 (Tue, 18 Apr 2023) EllapsedTime: 31.9 seconds RetCode: 0 Status: OK PackageFile: BioMM_1.14.0.tgz PackageFileSize: 2.932 MiB