Package: AMOUNTAIN Version: 1.24.0 Command: /Library/Frameworks/R.framework/Resources/bin/R CMD build --keep-empty-dirs --no-resave-data AMOUNTAIN StartedAt: 2023-04-16 19:37:23 -0400 (Sun, 16 Apr 2023) EndedAt: 2023-04-16 19:37:44 -0400 (Sun, 16 Apr 2023) EllapsedTime: 21.0 seconds RetCode: 0 Status: OK PackageFile: AMOUNTAIN_1.24.0.tar.gz PackageFileSize: 1.633 MiB