git_url: https://git.bioconductor.org/packages/shinyMethylData git_branch: RELEASE_3_13 git_last_commit: d144dcb git_last_commit_date: 2021-05-19 11:47:42 -0400 (Wed, 19 May 2021) Package: shinyMethylData Version: 1.12.0 Maintainer: Jean-Philippe Fortin MaintainerEmail: jfortin at jhsph.edu