Package: prostateCancerStockholm Version: 1.20.0 Command: /home/biocbuild/bbs-3.13-bioc/R/bin/R CMD build --keep-empty-dirs --no-resave-data prostateCancerStockholm StartedAt: 2021-10-16 12:27:59 -0400 (Sat, 16 Oct 2021) EndedAt: 2021-10-16 12:28:12 -0400 (Sat, 16 Oct 2021) EllapsedTime: 13.2 seconds RetCode: 0 Status: OK PackageFile: prostateCancerStockholm_1.20.0.tar.gz PackageFileSize: 13.48 MiB