Package: hgu133abarcodevecs Version: 1.30.0 Command: /home/biocbuild/bbs-3.13-bioc/R/bin/R CMD INSTALL hgu133abarcodevecs StartedAt: 2021-10-16 11:02:55 -0400 (Sat, 16 Oct 2021) EndedAt: 2021-10-16 11:02:58 -0400 (Sat, 16 Oct 2021) EllapsedTime: 3.3 seconds RetCode: 0 Status: OK