Package: hapmapsnp6 Version: 1.34.0 Command: /home/biocbuild/bbs-3.13-bioc/R/bin/R CMD INSTALL hapmapsnp6 StartedAt: 2021-10-16 11:02:41 -0400 (Sat, 16 Oct 2021) EndedAt: 2021-10-16 11:03:13 -0400 (Sat, 16 Oct 2021) EllapsedTime: 32.0 seconds RetCode: 0 Status: OK