Package: hapmapsnp6 Version: 1.34.0 Command: /home/biocbuild/bbs-3.13-bioc/R/bin/R CMD check --install=check:hapmapsnp6.install-out.txt --library=/home/biocbuild/bbs-3.13-bioc/R/library --no-vignettes --timings hapmapsnp6_1.34.0.tar.gz StartedAt: 2021-10-16 13:18:12 -0400 (Sat, 16 Oct 2021) EndedAt: 2021-10-16 13:20:32 -0400 (Sat, 16 Oct 2021) EllapsedTime: 139.9 seconds RetCode: 0 Status: OK CheckDir: hapmapsnp6.Rcheck Warnings: 0