Package: hapmap500ksty Version: 1.34.0 Command: /home/biocbuild/bbs-3.13-bioc/R/bin/R CMD check --install=check:hapmap500ksty.install-out.txt --library=/home/biocbuild/bbs-3.13-bioc/R/library --no-vignettes --timings hapmap500ksty_1.34.0.tar.gz StartedAt: 2021-10-16 13:18:01 -0400 (Sat, 16 Oct 2021) EndedAt: 2021-10-16 13:18:23 -0400 (Sat, 16 Oct 2021) EllapsedTime: 21.3 seconds RetCode: 0 Status: OK CheckDir: hapmap500ksty.Rcheck Warnings: 0