Package: gpaExample Version: 1.4.0 Command: /home/biocbuild/bbs-3.13-bioc/R/bin/R CMD INSTALL gpaExample StartedAt: 2021-10-16 11:05:52 -0400 (Sat, 16 Oct 2021) EndedAt: 2021-10-16 11:05:57 -0400 (Sat, 16 Oct 2021) EllapsedTime: 5.3 seconds RetCode: 0 Status: OK