Package: gageData Version: 2.30.0 Command: /home/biocbuild/bbs-3.13-bioc/R/bin/R CMD check --install=check:gageData.install-out.txt --library=/home/biocbuild/bbs-3.13-bioc/R/library --no-vignettes --timings gageData_2.30.0.tar.gz StartedAt: 2021-10-16 13:15:18 -0400 (Sat, 16 Oct 2021) EndedAt: 2021-10-16 13:16:02 -0400 (Sat, 16 Oct 2021) EllapsedTime: 43.7 seconds RetCode: 0 Status: OK CheckDir: gageData.Rcheck Warnings: 0