Package: depmap Version: 1.6.0 Command: /home/biocbuild/bbs-3.13-bioc/R/bin/R CMD INSTALL depmap StartedAt: 2021-10-16 11:14:55 -0400 (Sat, 16 Oct 2021) EndedAt: 2021-10-16 11:15:19 -0400 (Sat, 16 Oct 2021) EllapsedTime: 23.5 seconds RetCode: 0 Status: OK