git_url: https://git.bioconductor.org/packages/MSMB git_branch: RELEASE_3_13 git_last_commit: 2a8dfaf git_last_commit_date: 2021-05-19 12:05:03 -0400 (Wed, 19 May 2021) Package: MSMB Version: 1.10.0 Maintainer: Wolfgang Huber MaintainerEmail: whuber at embl.de