Package: HSMMSingleCell Version: 1.12.0 Command: /home/biocbuild/bbs-3.13-bioc/R/bin/R CMD build --keep-empty-dirs --no-resave-data HSMMSingleCell StartedAt: 2021-10-16 12:13:42 -0400 (Sat, 16 Oct 2021) EndedAt: 2021-10-16 12:13:44 -0400 (Sat, 16 Oct 2021) EllapsedTime: 2.0 seconds RetCode: 0 Status: OK PackageFile: HSMMSingleCell_1.12.0.tar.gz PackageFileSize: 16.09 MiB