Package: DrugVsDiseasedata Version: 1.28.0 Command: /home/biocbuild/bbs-3.13-bioc/R/bin/R CMD INSTALL DrugVsDiseasedata StartedAt: 2021-10-16 11:01:53 -0400 (Sat, 16 Oct 2021) EndedAt: 2021-10-16 11:01:57 -0400 (Sat, 16 Oct 2021) EllapsedTime: 4.3 seconds RetCode: 0 Status: OK