Back to Build/check report for BioC 3.13 on Apple's new arm64 arch |
|
This page was generated on 2021-01-31 03:53:35 -0500 (Sun, 31 Jan 2021).
These are experimental builds on Apple's new arm64 arch. See here for more information. |
Package 1079/1938 | Hostname | OS / Arch | INSTALL | BUILD | CHECK | BUILD BIN | ||||||||
minet 3.49.0 Patrick E. Meyer
| taxco | macOS 11.0.1 Big Sur / arm64 | OK | NA | NA | |||||||||